BEGIN:VCALENDAR
VERSION:2.0
PRODID:-//Library Market//iCal Export//EN
BEGIN:VEVENT
SUMMARY:Little Essentials Pantry Care Pack Assembly
UID:50554
DTSTAMP:20260420T015600Z
DTSTART:20260522T213000Z
DTEND:20260522T223000Z
LOCATION:120 Main Street, Setauket, NY 11733, United States
ROOM: Vincent R. O&#039;Leary Community Room
DESCRIPTION:Help create care packages (such as shower kits, dental hygiene
  kits, and period packs) for the Library’s Little Essentials Pantry.  A
 ssemble the contents and decorate the packs.  Run by Teen &amp; Tween Dep
 t Staff.  Earn 1 hour of community service credit upon completion of the 
 program.
URL:https://emmaclark.librarycalendar.com/event/little-essentials-pantry-c
 are-pack-assembly-50554
END:VEVENT
END:VCALENDAR
